BEGIN:VCALENDAR
VERSION:2.0
PRODID:-//Móra Ferenc Városi Könyvtár és Múzeum//NONSGML kigkonsult.se iCalcreator 2.41.92//
CALSCALE:GREGORIAN
METHOD:PUBLISH
UID:64353830-6633-4163-a431-613031633638
X-WR-CALNAME:iCagenda
X-WR-CALDESC:Event Management Extension for Joomla!
X-WR-RELCALID:3E26604A-50F4-4449-8B3E-E4F4932D05B5
X-WR-TIMEZONE:UTC
BEGIN:VTIMEZONE
TZID:UTC
END:VTIMEZONE
BEGIN:VEVENT
UID:33636330-3462-4039-b939-636238303963
DTSTAMP:20260419T140417Z
CATEGORIES:Gyermekkönyvtári rendezvény
CLASS:PUBLIC
DESCRIPTION;ALTREP="CID:<FFFF__=0ABBE548DFE235B58f9e8a93d@coffeebean.com>":
 Kedves Táborozók\, kedves Szülők!\nIsmét eltelt egy év\, és újra itt az ol
 vasótábori jelentkezés ideje! \nA regisztrációs felület 8 nap múlva (ápril
 is 10-én\, a reggeli órákban) válik elérhetővé honlapunkon\, a www.mfvk.hu
  oldalon. Kérjük\, az „Igényfelmérő” kitöltésekor fordítsatok kiemelt figy
 elmet az adatok pontosságára!  Különösen fontos\, hogy a gyermek aktuális 
 osztályát tüntessétek fel\, ne pedig azt\, amelyet szeptemberben fog elkez
 deni!\nA jelentkezést követő hetekben minden jelentkezőt értesíteni fogunk
  (a bejutottakat és a várólistára kerülőket egyaránt).\nSzeretettel várunk
 !
DTSTART:20260713T080000Z
DTEND:20260717T170000Z
GEO:00;0
LOCATION:Móra Ferenc Városi Könyvtár és Múzeum
ORGANIZER:
SEQUENCE:1
SUMMARY:2026 évi Olvasótábor 4-6 osztályos diákoknak
TRANSP:OPAQUE
URL:https://www.mfvk.pkapu.hu/progrmajanlo/2026-evi-olvasotabor-4-6-osztaly
 os-diakoknak
END:VEVENT
END:VCALENDAR
