BEGIN:VCALENDAR
VERSION:2.0
PRODID:-//Móra Ferenc Városi Könyvtár és Múzeum//NONSGML kigkonsult.se iCalcreator 2.41.92//
CALSCALE:GREGORIAN
METHOD:PUBLISH
UID:66383537-6438-4639-b136-343732316536
X-WR-CALNAME:iCagenda
X-WR-CALDESC:Event Management Extension for Joomla!
X-WR-RELCALID:3E26604A-50F4-4449-8B3E-E4F4932D05B5
X-WR-TIMEZONE:UTC
BEGIN:VTIMEZONE
TZID:UTC
END:VTIMEZONE
BEGIN:VEVENT
UID:61326436-3030-4938-b263-643762386536
DTSTAMP:20260419T140526Z
CATEGORIES:Gyermekkönyvtári rendezvény
CLASS:PUBLIC
DESCRIPTION;ALTREP="CID:<FFFF__=0ABBE548DFE235B58f9e8a93d@coffeebean.com>":
 Kedves Táborozók\, kedves Szülők!\nIsmét eltelt egy év\, és újra itt az ol
 vasótábori jelentkezés ideje! \nA regisztrációs felület 8 nap múlva&nbsp\;
 (április 10-én\, a reggeli órákban) válik elérhetővé honlapunkon\, a www.m
 fvk.hu oldalon. Kérjük\, az „Igényfelmérő” kitöltésekor fordítsatok kiemel
 t figyelmet az adatok pontosságára!  Különösen fontos\, hogy a gyermek akt
 uális osztályát tüntessétek fel\, ne pedig azt\, amelyet szeptemberben fog
  elkezdeni!\nA jelentkezést követő hetekben minden jelentkezőt értesíteni 
 fogunk (a bejutottakat és a várólistára kerülőket egyaránt).\nSzeretettel 
 várunk!
DTSTART:20260629T080000Z
DTEND:20260703T170000Z
GEO:00;0
LOCATION:Móra Ferenc Városi Könyvtár és Múzeum
ORGANIZER:
SEQUENCE:1
SUMMARY:2026 évi Olvasótábor 1-3 osztályos diákoknak
TRANSP:OPAQUE
URL:https://www.mfvk.pkapu.hu/progrmajanlo/2026-evi-olvasotabor-1-3-osztaly
 os-diakoknak
END:VEVENT
END:VCALENDAR
